BEGIN:VCALENDAR
PRODID:-//eluceo/ical//2.0/EN
VERSION:2.0
CALSCALE:GREGORIAN
BEGIN:VEVENT
UID:564faa84c53711d603dcfc663630ba8e
DTSTAMP:20260422T164148Z
SUMMARY:30 ans du club Rotary Liège-Chaudfontaine et Passation des Pouvoir
 s
DESCRIPTION:
URL:https://liege-chaudfontaine.rotary2160.org/nl/agenda/show/97048
DTSTART;TZID=Europe/Zurich:20260605T190000
DTEND;TZID=Europe/Zurich:20260605T233000
LOCATION:Palais de Princes Evêques - Salle du Gouverneur - Place Saint-Lam
 bert 18a à 4000 LIEGE
CATEGORIES:Rotary
END:VEVENT
BEGIN:VTIMEZONE
TZID:Europe/Zurich
BEGIN:DAYLIGHT
DTSTART:20260605T190000
TZNAME:CEST
TZOFFSETTO:+0200
TZOFFSETFROM:+0200
END:DAYLIGHT
END:VTIMEZONE
END:VCALENDAR
