BEGIN:VCALENDAR
PRODID:-//eluceo/ical//2.0/EN
VERSION:2.0
CALSCALE:GREGORIAN
BEGIN:VEVENT
UID:46663524071a9aa3b32089686c1f122b
DTSTAMP:20260423T103625Z
SUMMARY:RC MELUSINE : Soirée de Chartage
DESCRIPTION:Website: https://le-sud.lu
URL:https://melusine.rotary2160.org/nl/agenda/show/88606
DTSTART;TZID=Europe/Zurich:20251018T183000
DTEND;TZID=Europe/Zurich:20251018T235500
LOCATION:Le Sud\, 8 Rives de Clausen à L-2165 Luxembourg
CATEGORIES:Rotary
END:VEVENT
BEGIN:VTIMEZONE
TZID:Europe/Zurich
BEGIN:DAYLIGHT
DTSTART:20251018T183000
TZNAME:CEST
TZOFFSETTO:+0200
TZOFFSETFROM:+0200
END:DAYLIGHT
END:VTIMEZONE
END:VCALENDAR
