BEGIN:VCALENDAR
PRODID:-//eluceo/ical//2.0/EN
VERSION:2.0
CALSCALE:GREGORIAN
BEGIN:VEVENT
UID:411b424edd2b8bfc4e8812763c6f96d7
DTSTAMP:20260422T134712Z
SUMMARY:Partners' Night - 20-04-2026 : Comment déguster un vin ? - présen
 tation par Stephan Schreiber
DESCRIPTION:Conférencier(s): Soirée organisée par Sandra Nyssen (Le Bré
 vent)p.a.f. de 45 euros par personnes (vins de dégustation compris)
URL:https://verviers.rotary2160.org/fr/agenda/show/95549
DTSTART;TZID=Europe/Zurich:20260420T190000
DTEND;TZID=Europe/Zurich:20260420T223000
LOCATION:Salle des Fêtes de Polleur - place Sainte-Sévère à 4910 Polleu
 r (Theux)
CATEGORIES:Rotary
END:VEVENT
BEGIN:VTIMEZONE
TZID:Europe/Zurich
BEGIN:DAYLIGHT
DTSTART:20260420T190000
TZNAME:CEST
TZOFFSETTO:+0200
TZOFFSETFROM:+0200
END:DAYLIGHT
END:VTIMEZONE
END:VCALENDAR
