BEGIN:VCALENDAR
PRODID:-//eluceo/ical//2.0/EN
VERSION:2.0
CALSCALE:GREGORIAN
BEGIN:VEVENT
UID:c006159eda590cc8c38b5f0645b67e79
DTSTAMP:20260423T073912Z
SUMMARY:INSCRIPTION 20. ROTARY GOLF-TOURNOI
DESCRIPTION:Site internet: https://golfdeluxembourg.lu\nConférencier(s): R
 OTARY CLUB BASCHARAGE-KORDALL
URL:https://bascharage-kordall.rotary2160.org/fr/agenda/show/59445
DTSTART;TZID=Europe/Zurich:20230723T090000
DTEND;TZID=Europe/Zurich:20230723T235500
LOCATION:Golf de Luxembourg - Belenhaff / JUNGLINSTER
CATEGORIES:Rotary
END:VEVENT
BEGIN:VTIMEZONE
TZID:Europe/Zurich
BEGIN:DAYLIGHT
DTSTART:20230723T090000
TZNAME:CEST
TZOFFSETTO:+0200
TZOFFSETFROM:+0200
END:DAYLIGHT
END:VTIMEZONE
END:VCALENDAR
