BEGIN:VCALENDAR
PRODID:-//eluceo/ical//2.0/EN
VERSION:2.0
CALSCALE:GREGORIAN
BEGIN:VEVENT
UID:b9449191b11477fac19ac3e17963bbfa
DTSTAMP:20260423T055103Z
SUMMARY:NEIJOERS CONCERT
DESCRIPTION:
URL:https://bascharage-kordall.rotary2160.org/fr/agenda/show/52574
DTSTART;TZID=Europe/Zurich:20230115T110000
DTEND;TZID=Europe/Zurich:20230115T140000
LOCATION:Centre de Loisirs zu Lamadelaine
CATEGORIES:Rotary
END:VEVENT
BEGIN:VTIMEZONE
TZID:Europe/Zurich
BEGIN:STANDARD
DTSTART:20230115T110000
TZNAME:CET
TZOFFSETTO:+0100
TZOFFSETFROM:+0100
END:STANDARD
END:VTIMEZONE
END:VCALENDAR
